Package: scry Version: 1.21.0 Command: /home/biocbuild/bbs-3.22-bioc/R/bin/R CMD check --install=check:scry.install-out.txt --library=/home/biocbuild/bbs-3.22-bioc/R/site-library --timings scry_1.21.0.tar.gz StartedAt: 2025-10-17 05:39:47 -0400 (Fri, 17 Oct 2025) EndedAt: 2025-10-17 05:46:22 -0400 (Fri, 17 Oct 2025) EllapsedTime: 394.3 seconds RetCode: 0 Status: OK CheckDir: scry.Rcheck Warnings: 0