Package: scruff Version: 1.27.1 Command: /home/biocbuild/bbs-3.22-bioc/R/bin/R CMD check --install=check:scruff.install-out.txt --library=/home/biocbuild/bbs-3.22-bioc/R/site-library --timings scruff_1.27.1.tar.gz StartedAt: 2025-10-14 04:23:07 -0400 (Tue, 14 Oct 2025) EndedAt: 2025-10-14 04:31:14 -0400 (Tue, 14 Oct 2025) EllapsedTime: 486.5 seconds RetCode: 0 Status: OK CheckDir: scruff.Rcheck Warnings: 0