Package: scruff Version: 1.29.0 Command: /home/biocbuild/bbs-3.23-bioc/R/bin/R CMD INSTALL scruff StartedAt: 2025-11-03 15:50:48 -0500 (Mon, 03 Nov 2025) EndedAt: 2025-11-03 15:51:48 -0500 (Mon, 03 Nov 2025) EllapsedTime: 60.1 seconds RetCode: 0 Status: OK