Package: screenCounter Version: 1.9.0 Command: /Library/Frameworks/R.framework/Resources/bin/R CMD INSTALL screenCounter StartedAt: 2025-10-06 15:19:08 -0400 (Mon, 06 Oct 2025) EndedAt: 2025-10-06 15:20:46 -0400 (Mon, 06 Oct 2025) EllapsedTime: 97.8 seconds RetCode: 0 Status: OK