Package: screenCounter Version: 1.9.0 Command: /Library/Frameworks/R.framework/Resources/bin/R CMD build --keep-empty-dirs --no-resave-data screenCounter StartedAt: 2025-10-06 18:58:46 -0400 (Mon, 06 Oct 2025) EndedAt: 2025-10-06 19:01:15 -0400 (Mon, 06 Oct 2025) EllapsedTime: 148.3 seconds RetCode: 0 Status: OK PackageFile: screenCounter_1.9.0.tar.gz PackageFileSize: 292.3 KiB