Package: screenCounter Version: 1.9.0 Command: rm -rf screenCounter.buildbin-libdir && mkdir screenCounter.buildbin-libdir && /Users/biocbuild/BBS/utils/build-universal.sh screenCounter_1.9.0.tar.gz /Library/Frameworks/R.framework/Resources/bin/R screenCounter.buildbin-libdir StartedAt: 2025-10-08 02:41:30 -0400 (Wed, 08 Oct 2025) EndedAt: 2025-10-08 02:43:17 -0400 (Wed, 08 Oct 2025) EllapsedTime: 107.5 seconds RetCode: 0 Status: OK PackageFile: screenCounter_1.9.0.tgz PackageFileSize: 540.6 KiB