Package: scrapper Version: 1.5.2 Command: /home/biocbuild/bbs-3.23-bioc/R/bin/R CMD INSTALL scrapper StartedAt: 2025-11-11 15:21:52 -0500 (Tue, 11 Nov 2025) EndedAt: 2025-11-11 15:26:26 -0500 (Tue, 11 Nov 2025) EllapsedTime: 274.1 seconds RetCode: 0 Status: OK