Package: scrapper Version: 1.5.2 Command: /home/biocbuild/bbs-3.23-bioc/R/bin/R CMD build --keep-empty-dirs --no-resave-data scrapper StartedAt: 2025-11-11 20:01:20 -0500 (Tue, 11 Nov 2025) EndedAt: 2025-11-11 20:07:21 -0500 (Tue, 11 Nov 2025) EllapsedTime: 361.3 seconds RetCode: 0 Status: OK PackageFile: scrapper_1.5.2.tar.gz PackageFileSize: 949.3 KiB