Package: scrapper Version: 1.3.13 Command: /Library/Frameworks/R.framework/Resources/bin/R CMD INSTALL scrapper StartedAt: 2025-10-10 15:25:51 -0400 (Fri, 10 Oct 2025) EndedAt: 2025-10-10 15:32:13 -0400 (Fri, 10 Oct 2025) EllapsedTime: 381.5 seconds RetCode: 0 Status: OK