Package: scrapper Version: 1.3.13 Command: /Library/Frameworks/R.framework/Resources/bin/R CMD build --keep-empty-dirs --no-resave-data scrapper StartedAt: 2025-10-10 19:07:52 -0400 (Fri, 10 Oct 2025) EndedAt: 2025-10-10 19:16:41 -0400 (Fri, 10 Oct 2025) EllapsedTime: 528.4 seconds RetCode: 0 Status: OK PackageFile: scrapper_1.3.13.tar.gz PackageFileSize: 1.058 MiB