Package: scrapper Version: 1.3.13 Command: rm -rf scrapper.buildbin-libdir && mkdir scrapper.buildbin-libdir && /Users/biocbuild/BBS/utils/build-universal.sh scrapper_1.3.13.tar.gz /Library/Frameworks/R.framework/Resources/bin/R scrapper.buildbin-libdir StartedAt: 2025-10-11 02:52:55 -0400 (Sat, 11 Oct 2025) EndedAt: 2025-10-11 02:59:43 -0400 (Sat, 11 Oct 2025) EllapsedTime: 407.3 seconds RetCode: 0 Status: OK PackageFile: scrapper_1.3.13.tgz PackageFileSize: 2.412 MiB