Package: scrapper Version: 1.3.13 Maintainer: Aaron Lun MaintainerEmail: infinite.monkeys.with.keyboards at gmail.com git_url: https://git.bioconductor.org/packages/scrapper git_branch: devel git_last_commit: e62b9f3 git_last_commit_date: 2025-10-06 00:22:24 -0400 (Mon, 06 Oct 2025)