Package: scran Version: 1.39.0 Command: /home/biocbuild/bbs-3.23-bioc/R/bin/R CMD INSTALL scran StartedAt: 2025-11-04 15:53:14 -0500 (Tue, 04 Nov 2025) EndedAt: 2025-11-04 15:54:28 -0500 (Tue, 04 Nov 2025) EllapsedTime: 73.9 seconds RetCode: 0 Status: OK