Package: scran Version: 1.39.0 Command: /home/biocbuild/bbs-3.23-bioc/R/bin/R CMD build --keep-empty-dirs --no-resave-data scran StartedAt: 2025-11-04 19:49:50 -0500 (Tue, 04 Nov 2025) EndedAt: 2025-11-04 19:53:10 -0500 (Tue, 04 Nov 2025) EllapsedTime: 199.2 seconds RetCode: 0 Status: OK PackageFile: scran_1.39.0.tar.gz PackageFileSize: 1.743 MiB