Package: scran Version: 1.37.0 Command: /Library/Frameworks/R.framework/Resources/bin/R CMD check --install=check:scran.install-out.txt --library=/Library/Frameworks/R.framework/Resources/library --no-vignettes --timings scran_1.37.0.tar.gz StartedAt: 2025-10-15 21:44:04 -0400 (Wed, 15 Oct 2025) EndedAt: 2025-10-15 21:48:17 -0400 (Wed, 15 Oct 2025) EllapsedTime: 253.7 seconds RetCode: 0 Status: WARNINGS CheckDir: scran.Rcheck Warnings: 1