Package: scp Version: 1.19.4 Command: /home/biocbuild/R/R/bin/R CMD INSTALL scp StartedAt: 2025-10-06 20:52:13 -0000 (Mon, 06 Oct 2025) EndedAt: 2025-10-06 20:52:53 -0000 (Mon, 06 Oct 2025) EllapsedTime: 40.5 seconds RetCode: 0 Status: OK