Package: scp Version: 1.19.4 Command: /home/biocbuild/R/R/bin/R CMD build --keep-empty-dirs --no-resave-data scp StartedAt: 2025-10-07 02:45:00 -0000 (Tue, 07 Oct 2025) EndedAt: 2025-10-07 02:50:35 -0000 (Tue, 07 Oct 2025) EllapsedTime: 335.1 seconds RetCode: 0 Status: OK PackageFile: scp_1.19.4.tar.gz PackageFileSize: 7.334 MiB