Package: scp Version: 1.21.0 Command: /home/biocbuild/bbs-3.23-bioc/R/bin/R CMD build --keep-empty-dirs --no-resave-data scp StartedAt: 2025-11-20 19:55:20 -0500 (Thu, 20 Nov 2025) EndedAt: 2025-11-20 19:59:09 -0500 (Thu, 20 Nov 2025) EllapsedTime: 229.1 seconds RetCode: 0 Status: OK PackageFile: scp_1.21.0.tar.gz PackageFileSize: 8.499 MiB