Package: scoup Version: 1.3.0 Command: /home/biocbuild/R/R/bin/R CMD INSTALL scoup StartedAt: 2025-10-16 21:27:47 -0000 (Thu, 16 Oct 2025) EndedAt: 2025-10-16 21:28:04 -0000 (Thu, 16 Oct 2025) EllapsedTime: 17.1 seconds RetCode: 0 Status: OK