Package: scoup Version: 1.3.0 Command: /home/biocbuild/R/R/bin/R CMD build --keep-empty-dirs --no-resave-data scoup StartedAt: 2025-10-17 04:25:54 -0000 (Fri, 17 Oct 2025) EndedAt: 2025-10-17 04:26:23 -0000 (Fri, 17 Oct 2025) EllapsedTime: 29.0 seconds RetCode: 0 Status: OK PackageFile: scoup_1.3.0.tar.gz PackageFileSize: 402.3 KiB