Package: scoup Version: 1.3.0 Command: /home/biocbuild/bbs-3.22-bioc/R/bin/R CMD check --install=check:scoup.install-out.txt --library=/home/biocbuild/bbs-3.22-bioc/R/site-library --timings scoup_1.3.0.tar.gz StartedAt: 2025-10-14 04:20:09 -0400 (Tue, 14 Oct 2025) EndedAt: 2025-10-14 04:22:48 -0400 (Tue, 14 Oct 2025) EllapsedTime: 159.2 seconds RetCode: 0 Status: OK CheckDir: scoup.Rcheck Warnings: 0