Package: scoup Version: 1.5.0 Command: /home/biocbuild/bbs-3.23-bioc/R/bin/R CMD INSTALL scoup StartedAt: 2025-11-05 15:22:00 -0500 (Wed, 05 Nov 2025) EndedAt: 2025-11-05 15:22:13 -0500 (Wed, 05 Nov 2025) EllapsedTime: 13.0 seconds RetCode: 0 Status: OK