Package: scoup Version: 1.5.0 Command: /home/biocbuild/bbs-3.23-bioc/R/bin/R CMD check --install=check:scoup.install-out.txt --library=/home/biocbuild/bbs-3.23-bioc/R/site-library --timings scoup_1.5.0.tar.gz StartedAt: 2025-11-24 03:41:24 -0500 (Mon, 24 Nov 2025) EndedAt: 2025-11-24 03:44:01 -0500 (Mon, 24 Nov 2025) EllapsedTime: 157.1 seconds RetCode: 0 Status: OK CheckDir: scoup.Rcheck Warnings: 0