Package: scoup Version: 1.5.0 Command: /home/biocbuild/bbs-3.23-bioc/R/bin/R CMD build --keep-empty-dirs --no-resave-data scoup StartedAt: 2025-11-05 19:56:01 -0500 (Wed, 05 Nov 2025) EndedAt: 2025-11-05 19:56:22 -0500 (Wed, 05 Nov 2025) EllapsedTime: 21.0 seconds RetCode: 0 Status: OK PackageFile: scoup_1.5.0.tar.gz PackageFileSize: 334.3 KiB