Package: scoreInvHap Version: 1.33.0 Command: /home/biocbuild/bbs-3.23-bioc/R/bin/R CMD INSTALL scoreInvHap StartedAt: 2025-11-07 15:40:25 -0500 (Fri, 07 Nov 2025) EndedAt: 2025-11-07 15:41:06 -0500 (Fri, 07 Nov 2025) EllapsedTime: 41.2 seconds RetCode: 0 Status: OK