Package: scoreInvHap Version: 1.33.0 Command: /home/biocbuild/bbs-3.23-bioc/R/bin/R CMD build --keep-empty-dirs --no-resave-data scoreInvHap StartedAt: 2025-11-06 19:48:12 -0500 (Thu, 06 Nov 2025) EndedAt: 2025-11-06 19:49:11 -0500 (Thu, 06 Nov 2025) EllapsedTime: 59.1 seconds RetCode: 0 Status: OK PackageFile: scoreInvHap_1.33.0.tar.gz PackageFileSize: 1.073 MiB