Package: scoreInvHap Version: 1.31.0 Command: /Library/Frameworks/R.framework/Resources/bin/R CMD INSTALL scoreInvHap StartedAt: 2025-10-16 16:03:35 -0400 (Thu, 16 Oct 2025) EndedAt: 2025-10-16 16:04:33 -0400 (Thu, 16 Oct 2025) EllapsedTime: 57.4 seconds RetCode: 0 Status: OK