Package: scoreInvHap Version: 1.31.0 Command: rm -rf scoreInvHap.buildbin-libdir && mkdir scoreInvHap.buildbin-libdir && /Users/biocbuild/BBS/utils/build-universal.sh scoreInvHap_1.31.0.tar.gz /Library/Frameworks/R.framework/Resources/bin/R scoreInvHap.buildbin-libdir StartedAt: 2025-10-17 04:13:40 -0400 (Fri, 17 Oct 2025) EndedAt: 2025-10-17 04:14:40 -0400 (Fri, 17 Oct 2025) EllapsedTime: 59.1 seconds RetCode: 0 Status: OK PackageFile: scoreInvHap_1.31.0.tgz PackageFileSize: 1.526 MiB