Package: scoreInvHap Version: 1.31.0 Command: /Library/Frameworks/R.framework/Resources/bin/R CMD INSTALL scoreInvHap StartedAt: 2025-10-14 15:21:22 -0400 (Tue, 14 Oct 2025) EndedAt: 2025-10-14 15:21:39 -0400 (Tue, 14 Oct 2025) EllapsedTime: 17.2 seconds RetCode: 0 Status: OK