Package: scoreInvHap Version: 1.31.0 Command: /Library/Frameworks/R.framework/Resources/bin/R CMD build --keep-empty-dirs --no-resave-data scoreInvHap StartedAt: 2025-10-15 17:43:23 -0400 (Wed, 15 Oct 2025) EndedAt: 2025-10-15 17:43:49 -0400 (Wed, 15 Oct 2025) EllapsedTime: 26.3 seconds RetCode: 0 Status: OK PackageFile: scoreInvHap_1.31.0.tar.gz PackageFileSize: 1.037 MiB