Package: scoreInvHap Version: 1.32.0 Maintainer: Dolors Pelegri-Siso MaintainerEmail: dolors.pelegri at isglobal.org git_url: https://git.bioconductor.org/packages/scoreInvHap git_branch: RELEASE_3_22 git_last_commit: 3779f3d git_last_commit_date: 2025-10-29 10:39:17 -0400 (Wed, 29 Oct 2025)