Package: scone Version: 1.35.0 Command: /home/biocbuild/bbs-3.23-bioc/R/bin/R CMD build --keep-empty-dirs --no-resave-data scone StartedAt: 2025-11-05 19:55:40 -0500 (Wed, 05 Nov 2025) EndedAt: 2025-11-05 19:58:01 -0500 (Wed, 05 Nov 2025) EllapsedTime: 141.1 seconds RetCode: 0 Status: OK PackageFile: scone_1.35.0.tar.gz PackageFileSize: 1.768 MiB