Package: scone Version: 1.33.0 Command: /Library/Frameworks/R.framework/Resources/bin/R CMD INSTALL scone StartedAt: 2025-10-23 15:45:42 -0400 (Thu, 23 Oct 2025) EndedAt: 2025-10-23 15:46:55 -0400 (Thu, 23 Oct 2025) EllapsedTime: 73.2 seconds RetCode: 0 Status: OK