Package: scone Version: 1.33.0 Command: rm -rf scone.buildbin-libdir && mkdir scone.buildbin-libdir && /Users/biocbuild/BBS/utils/build-universal.sh scone_1.33.0.tar.gz /Library/Frameworks/R.framework/Resources/bin/R scone.buildbin-libdir StartedAt: 2025-10-24 01:56:52 -0400 (Fri, 24 Oct 2025) EndedAt: 2025-10-24 01:58:07 -0400 (Fri, 24 Oct 2025) EllapsedTime: 74.9 seconds RetCode: 0 Status: OK PackageFile: scone_1.33.0.tgz PackageFileSize: 2.047 MiB