Package: scone Version: 1.33.0 Command: /Library/Frameworks/R.framework/Resources/bin/R CMD build --keep-empty-dirs --no-resave-data scone StartedAt: 2025-10-10 17:38:33 -0400 (Fri, 10 Oct 2025) EndedAt: 2025-10-10 17:39:39 -0400 (Fri, 10 Oct 2025) EllapsedTime: 65.7 seconds RetCode: 0 Status: OK PackageFile: scone_1.33.0.tar.gz PackageFileSize: 1.867 MiB