Package: scone Version: 1.33.0 Command: rm -rf scone.buildbin-libdir && mkdir scone.buildbin-libdir && /Users/biocbuild/BBS/utils/build-universal.sh scone_1.33.0.tar.gz /Library/Frameworks/R.framework/Resources/bin/R scone.buildbin-libdir StartedAt: 2025-10-10 22:56:50 -0400 (Fri, 10 Oct 2025) EndedAt: 2025-10-10 22:57:14 -0400 (Fri, 10 Oct 2025) EllapsedTime: 23.4 seconds RetCode: 0 Status: OK PackageFile: scone_1.33.0.tgz PackageFileSize: 2.054 MiB