Package: scone Version: 1.33.0 Maintainer: Davide Risso MaintainerEmail: risso.davide at gmail.com git_url: https://git.bioconductor.org/packages/scone git_branch: devel git_last_commit: c549469 git_last_commit_date: 2025-04-15 11:07:45 -0400 (Tue, 15 Apr 2025)