Package: scmeth Version: 1.31.0 Command: /home/biocbuild/bbs-3.23-bioc/R/bin/R CMD check --install=check:scmeth.install-out.txt --library=/home/biocbuild/bbs-3.23-bioc/R/site-library --timings scmeth_1.31.0.tar.gz StartedAt: 2025-11-06 03:37:20 -0500 (Thu, 06 Nov 2025) EndedAt: 2025-11-06 03:44:33 -0500 (Thu, 06 Nov 2025) EllapsedTime: 433.4 seconds RetCode: 0 Status: OK CheckDir: scmeth.Rcheck Warnings: 0