Package: scmap Version: 1.31.0 Command: /home/biocbuild/R/R/bin/R CMD INSTALL scmap StartedAt: 2025-10-23 20:56:14 -0000 (Thu, 23 Oct 2025) EndedAt: 2025-10-23 20:57:10 -0000 (Thu, 23 Oct 2025) EllapsedTime: 56.3 seconds RetCode: 0 Status: OK