Package: scmap Version: 1.31.0 Command: /home/biocbuild/R/R/bin/R CMD build --keep-empty-dirs --no-resave-data scmap StartedAt: 2025-10-21 02:56:20 -0000 (Tue, 21 Oct 2025) EndedAt: 2025-10-21 02:57:41 -0000 (Tue, 21 Oct 2025) EllapsedTime: 81.0 seconds RetCode: 0 Status: OK PackageFile: scmap_1.31.0.tar.gz PackageFileSize: 2.045 MiB