Package: scmap Version: 1.31.0 Command: /home/biocbuild/bbs-3.22-bioc/R/bin/R CMD check --install=check:scmap.install-out.txt --library=/home/biocbuild/bbs-3.22-bioc/R/site-library --timings scmap_1.31.0.tar.gz StartedAt: 2025-10-16 04:39:41 -0400 (Thu, 16 Oct 2025) EndedAt: 2025-10-16 04:42:58 -0400 (Thu, 16 Oct 2025) EllapsedTime: 197.2 seconds RetCode: 0 Status: OK CheckDir: scmap.Rcheck Warnings: 0