Package: scmap Version: 1.33.0 Command: /home/biocbuild/bbs-3.23-bioc/R/bin/R CMD INSTALL scmap StartedAt: 2025-11-20 15:32:47 -0500 (Thu, 20 Nov 2025) EndedAt: 2025-11-20 15:33:26 -0500 (Thu, 20 Nov 2025) EllapsedTime: 39.8 seconds RetCode: 0 Status: OK