Package: scmap Version: 1.33.0 Command: /home/biocbuild/bbs-3.23-bioc/R/bin/R CMD check --install=check:scmap.install-out.txt --library=/home/biocbuild/bbs-3.23-bioc/R/site-library --timings scmap_1.33.0.tar.gz StartedAt: 2025-11-24 03:38:46 -0500 (Mon, 24 Nov 2025) EndedAt: 2025-11-24 03:41:59 -0500 (Mon, 24 Nov 2025) EllapsedTime: 193.2 seconds RetCode: 0 Status: OK CheckDir: scmap.Rcheck Warnings: 0