Package: scifer Version: 1.13.0 Command: /home/biocbuild/bbs-3.23-bioc/R/bin/R CMD INSTALL scifer StartedAt: 2025-11-03 15:49:50 -0500 (Mon, 03 Nov 2025) EndedAt: 2025-11-03 15:50:05 -0500 (Mon, 03 Nov 2025) EllapsedTime: 15.6 seconds RetCode: 0 Status: OK