Package: scifer Version: 1.13.0 Command: /home/biocbuild/bbs-3.23-bioc/R/bin/R CMD check --install=check:scifer.install-out.txt --library=/home/biocbuild/bbs-3.23-bioc/R/site-library --timings scifer_1.13.0.tar.gz StartedAt: 2025-11-06 03:35:38 -0500 (Thu, 06 Nov 2025) EndedAt: 2025-11-06 03:45:33 -0500 (Thu, 06 Nov 2025) EllapsedTime: 594.6 seconds RetCode: 0 Status: OK CheckDir: scifer.Rcheck Warnings: 0