Package: scifer Version: 1.13.0 Command: /home/biocbuild/bbs-3.23-bioc/R/bin/R CMD build --keep-empty-dirs --no-resave-data scifer StartedAt: 2025-11-03 19:44:28 -0500 (Mon, 03 Nov 2025) EndedAt: 2025-11-03 19:46:44 -0500 (Mon, 03 Nov 2025) EllapsedTime: 136.3 seconds RetCode: 0 Status: OK PackageFile: scifer_1.13.0.tar.gz PackageFileSize: 1.504 MiB