Package: scifer Version: 1.11.5 Command: /Library/Frameworks/R.framework/Resources/bin/R CMD check --install=check:scifer.install-out.txt --library=/Library/Frameworks/R.framework/Resources/library --no-vignettes --timings scifer_1.11.5.tar.gz StartedAt: 2025-10-24 21:56:20 -0400 (Fri, 24 Oct 2025) EndedAt: 2025-10-24 21:58:43 -0400 (Fri, 24 Oct 2025) EllapsedTime: 142.6 seconds RetCode: 0 Status: OK CheckDir: scifer.Rcheck Warnings: 0