Package: scider Version: 1.9.0 Command: /home/biocbuild/bbs-3.23-bioc/R/bin/R CMD INSTALL scider StartedAt: 2025-11-20 15:19:42 -0500 (Thu, 20 Nov 2025) EndedAt: 2025-11-20 15:20:15 -0500 (Thu, 20 Nov 2025) EllapsedTime: 33.2 seconds RetCode: 0 Status: OK