Package: scider Version: 1.7.2 Command: /Library/Frameworks/R.framework/Resources/bin/R CMD INSTALL scider StartedAt: 2025-10-06 15:20:56 -0400 (Mon, 06 Oct 2025) EndedAt: 2025-10-06 15:21:42 -0400 (Mon, 06 Oct 2025) EllapsedTime: 46.0 seconds RetCode: 0 Status: OK