Package: scider Version: 1.7.2 Command: /Library/Frameworks/R.framework/Resources/bin/R CMD build --keep-empty-dirs --no-resave-data scider StartedAt: 2025-10-06 18:56:23 -0400 (Mon, 06 Oct 2025) EndedAt: 2025-10-06 18:58:20 -0400 (Mon, 06 Oct 2025) EllapsedTime: 117.4 seconds RetCode: 0 Status: OK PackageFile: scider_1.7.2.tar.gz PackageFileSize: 3.178 MiB